BEGIN:VCALENDAR
VERSION:2.0
PRODID:-//Talks.cam//talks.cam.ac.uk//
X-WR-CALNAME:Talks.cam
BEGIN:VEVENT
SUMMARY:Vertex Operator Algebras from Calabi-Yau Geometries - Katrin Wendl
 and (Albert-Ludwigs-Universität Freiburg)
DTSTART:20170331T090000Z
DTEND:20170331T100000Z
UID:TALK71726@talks.cam.ac.uk
CONTACT:INI IT
DESCRIPTION:Vertex operator algebras occur naturally as mathematically wel
 l tractable ingredients to conformal field theories (CFTs)\, capturing in 
 general only a small part of the structure of the latter. The talk will hi
 ghlight a few examples for which this procedure yields a natural route fro
 m Calabi-Yau geometries to vertex operator algebras. Moreover\, we will di
 scuss a new technique\, developed in joint work with Anne Taormina\, which
  transforms certain CFTs into vertex operator algebras and their admissibl
 e modules\, thus capturing a major part of the structure of the CFT in ter
 ms of a vertex operator algebra.<br>
LOCATION:Seminar Room 1\, Newton Institute
END:VEVENT
END:VCALENDAR
