BEGIN:VCALENDAR
VERSION:2.0
PRODID:-//Talks.cam//talks.cam.ac.uk//
X-WR-CALNAME:Talks.cam
BEGIN:VEVENT
SUMMARY:Seminar – Effects of Macronutrient Distribution on Weight Change
  and Related Cardiometabolic Profiles in Healthy Non-Obese Chinese: A Rand
 omized\, Clinical Trial - Professor Duo Li\, Professor of Nutrition\, Depa
 rtment of Food Science &amp\; Nutrition\, Zhejiang University\, China
DTSTART:20170331T113000Z
DTEND:20170331T123000Z
UID:TALK71734@talks.cam.ac.uk
CONTACT:Oliver Francis
DESCRIPTION:This 6 month randomized controlled-feeding trial was conducted
  to determine whether the traditional low fat\, high carbohydrate diet is 
 more effective than the higher fat\, lower carbohydrate diet at preventing
  obesity among a non-obese healthy population in China. The trial included
  307 young adults aged 18-35 years with a body mass index of less than 28.
  It showed that the low fat\, high carbohydrate diet reduced body weight t
 o a greater extent than a higher fat\, lower carbohydrate intake.
LOCATION:Meeting rooms\, Level 4 Institute of Metabolic Sciences\, Addenbr
 ooke’s Treatment Centre (ATC)
END:VEVENT
END:VCALENDAR
