BEGIN:VCALENDAR
VERSION:2.0
PRODID:-//Talks.cam//talks.cam.ac.uk//
X-WR-CALNAME:Talks.cam
BEGIN:VEVENT
SUMMARY:Contact with Donor Siblings among Parents and Offspring: Understan
 dings of Genes and Kinship - Professor Margaret K. Nelson
DTSTART:20170418T120000Z
DTEND:20170418T130000Z
UID:TALK71736@talks.cam.ac.uk
CONTACT:Hannah Mayes
DESCRIPTION:Abstract not available
LOCATION:Room 606\, Centre for Family Research
END:VEVENT
END:VCALENDAR
