BEGIN:VCALENDAR
VERSION:2.0
PRODID:-//Talks.cam//talks.cam.ac.uk//
X-WR-CALNAME:Talks.cam
BEGIN:VEVENT
SUMMARY:Higher genus knot contact homology and recursion for the colored H
 OMFLY polynomial - Tobias Ekholm (Uppsala Universitet\; Institut Mittag-Le
 ffler)
DTSTART:20170412T103000Z
DTEND:20170412T113000Z
UID:TALK71917@talks.cam.ac.uk
CONTACT:INI IT
DESCRIPTION:We present a conjectural description of Legendrian symplectic 
 field theory for the conormal of a knot ("higher genus knot contact homolo
 gy") and discuss its relation to the recursion relation for the colored HO
 MFLY polynomial. This reports on joint work with Lenny Ng.&nbsp\;
LOCATION:Seminar Room 1\, Newton Institute
END:VEVENT
END:VCALENDAR
