BEGIN:VCALENDAR
VERSION:2.0
PRODID:-//Talks.cam//talks.cam.ac.uk//
X-WR-CALNAME:Talks.cam
BEGIN:VEVENT
SUMMARY:Microseismic event detection using machine learning and Bayesian i
 nference - Saptarshi Das
DTSTART:20170503T124500Z
DTEND:20170503T131500Z
UID:TALK72072@talks.cam.ac.uk
CONTACT:Quentin Kral
DESCRIPTION:Abstract not available
LOCATION:Sackler Lecture Theatre\, IoA
END:VEVENT
END:VCALENDAR
