BEGIN:VCALENDAR
VERSION:2.0
PRODID:-//Talks.cam//talks.cam.ac.uk//
X-WR-CALNAME:Talks.cam
BEGIN:VEVENT
SUMMARY:Understanding Collective Dynamics of Motile Cilia in Human Airway 
 Cells - Luigi Feriani
DTSTART:20170428T150000Z
DTEND:20170428T160000Z
UID:TALK72327@talks.cam.ac.uk
CONTACT:Emma Talbot
DESCRIPTION:Abstract not available
LOCATION:Small Lecture Theatre\, Bragg Building\, Cavendish Laboratory (Ph
 ysics Department)
END:VEVENT
END:VCALENDAR
