BEGIN:VCALENDAR
VERSION:2.0
PRODID:-//Talks.cam//talks.cam.ac.uk//
X-WR-CALNAME:Talks.cam
BEGIN:VEVENT
SUMMARY:Plato and Aristotle on why an intellectual life is even better tha
 n a moral one - Professor David Sedley\, Laurence Professor of Ancient Phi
 losophy
DTSTART:20070515T160000Z
DTEND:20070515T180000Z
UID:TALK7269@talks.cam.ac.uk
CONTACT:Lloyd West
DESCRIPTION:Abstract not available
LOCATION:Lloyd Room\, Christ's College
END:VEVENT
END:VCALENDAR
