BEGIN:VCALENDAR
VERSION:2.0
PRODID:-//Talks.cam//talks.cam.ac.uk//
X-WR-CALNAME:Talks.cam
BEGIN:VEVENT
SUMMARY:Evidence and policy in public health: reflections from Public Heal
 th England - Dr Felix Greaves\, Deputy Director\, Science and Strategic In
 formation\, Public Health England.
DTSTART:20170621T113000Z
DTEND:20170621T123000Z
UID:TALK72838@talks.cam.ac.uk
CONTACT:Paul Browne
DESCRIPTION:Felix is Deputy Director\, Science and Strategic Information a
 t Public Health England and an honorary clinical senior lecturer in the De
 partment of Primary Care and Public Health at Imperial College.\n\nHe was 
 previously clinical adviser to the Chief Medical Officer at the Department
  of Health\, where he worked on developing national quality and safety pol
 icy. He also worked for the World Health Organization’s Patient Safety P
 rogramme\, where he managed their project on improving patient safety educ
 ation in medical schools and technology for patient safety.\n\nFelix train
 ed at Oxford University (BA\, BM BCh)\, Harvard University (MPH) and Imper
 ial College (MBA\, PhD). He was awarded a Knox Fellowship by Harvard Unive
 rsity\, the Sir John Brotherston Prize by the Faculty of Public Health in 
 the UK\, an Academic Clinical Fellowship by the NIHR\, and a Harkness Fell
 owship in Health Care Policy and Practice by the Commonwealth Fund.
LOCATION:Meeting rooms\, Level 4 Institute of Metabolic Sciences\, Addenbr
 ooke’s Treatment Centre (ATC)
END:VEVENT
END:VCALENDAR
