BEGIN:VCALENDAR
VERSION:2.0
PRODID:-//Talks.cam//talks.cam.ac.uk//
X-WR-CALNAME:Talks.cam
BEGIN:VEVENT
SUMMARY:The world outlook and the international monetary system: A convers
 ation with Prof. Maurice Obstfeld\, Chief Economist at the IMF - Professor
  Maurice Obstfeld\, Chief Economist at the IMF
DTSTART:20170529T160000Z
DTEND:20170529T170000Z
UID:TALK72840@talks.cam.ac.uk
CONTACT:50804
DESCRIPTION:Abstract not available
LOCATION:McCrum theatre\, Corpus Christi\, Cambridge
END:VEVENT
END:VCALENDAR
