BEGIN:VCALENDAR
VERSION:2.0
PRODID:-//Talks.cam//talks.cam.ac.uk//
X-WR-CALNAME:Talks.cam
BEGIN:VEVENT
SUMMARY:Engineering a CDN: The Challenges of Building and Scaling to 100 M
 illion Monthly Requests - Murali Srirangam-Ramanujam
DTSTART:20170606T121500Z
DTEND:20170606T124500Z
UID:TALK72842@talks.cam.ac.uk
CONTACT:Gemma Gordon
DESCRIPTION:Drawing from his experience engineering a content delivery net
 work\, Murali will highlight some of the challenges in architecting and sc
 aling such a critical infrastructure in production. \n\nKey takeaways are 
 expected to be\n- An exposure to current cloud technologies and trends.\n-
  An understanding of the state-of-the-art in website optimisation and the 
 details abstracted away inside a CDN.\n
LOCATION:Computer Laboratory\, William Gates Building\, Room FW11
END:VEVENT
END:VCALENDAR
