BEGIN:VCALENDAR
VERSION:2.0
PRODID:-//Talks.cam//talks.cam.ac.uk//
X-WR-CALNAME:Talks.cam
BEGIN:VEVENT
SUMMARY:Kaehler groups and CAT(0) cubic complexes - Thomas Delzant (Univer
 sité Louis Pasteur)
DTSTART:20170620T080000Z
DTEND:20170620T090000Z
UID:TALK72994@talks.cam.ac.uk
CONTACT:INI IT
DESCRIPTION:Join work with Pierre PyWe apply&nbsp\;the work of Caprace Sag
 eev on group acting on&nbsp\;CAT(O) cube complexes\, and the work of Brids
 on Howie Miller Short on subproducts of surface groups to prove that if&nb
 sp\;a Kahler groups is cubulable\, it contains a subgroup of finite index&
 nbsp\;which is a product of surface groups and abelian groups.
LOCATION:Seminar Room 1\, Newton Institute
END:VEVENT
END:VCALENDAR
