BEGIN:VCALENDAR
VERSION:2.0
PRODID:-//Talks.cam//talks.cam.ac.uk//
X-WR-CALNAME:Talks.cam
BEGIN:VEVENT
SUMMARY:Non-multiplicative TQFTs and diagrammatic categorifications of the
  polynomial ring - Radmila Sazdanovic (North Carolina State University)
DTSTART:20170629T103000Z
DTEND:20170629T113000Z
UID:TALK73082@talks.cam.ac.uk
CONTACT:INI IT
DESCRIPTION:<span>Co-author: Mikhail Khovanov		(Columbia University)      
   <br></span><span><br>We focus on non-multiplicative TQFTs via representa
 tions of non-unital rings built out of cobordism categories modulo various
  relations. Examples include diagrammatic categorifications of the polynom
 ial ring Z[x] and several classes of orthogonal polynomials.</span>
LOCATION:Seminar Room 1\, Newton Institute
END:VEVENT
END:VCALENDAR
