BEGIN:VCALENDAR
VERSION:2.0
PRODID:-//Talks.cam//talks.cam.ac.uk//
X-WR-CALNAME:Talks.cam
BEGIN:VEVENT
SUMMARY:Localist models are compatible with information measures\, sparsen
 ess indices and complementary learning systems in the brain - Dr Mike Page
 \, University of Hertfordshire
DTSTART:20170705T113000Z
DTEND:20170705T123000Z
UID:TALK73098@talks.cam.ac.uk
CONTACT:Vicky Collins
DESCRIPTION:Abstract not available
LOCATION:Lecture Theatre\, MRC Cognition and Brain Sciences Unit\, Chaucer
  Road
END:VEVENT
END:VCALENDAR
