BEGIN:VCALENDAR
VERSION:2.0
PRODID:-//Talks.cam//talks.cam.ac.uk//
X-WR-CALNAME:Talks.cam
BEGIN:VEVENT
SUMMARY:Interpretation of the Calculus of Constructions in dictoses - Mart
 in Hofmann (Ludwig-Maximilians-Universität München)
DTSTART:20170706T153000Z
DTEND:20170706T163000Z
UID:TALK73180@talks.cam.ac.uk
CONTACT:INI IT
DESCRIPTION:
LOCATION:Seminar Room 2\, Newton Institute
END:VEVENT
END:VCALENDAR
