BEGIN:VCALENDAR
VERSION:2.0
PRODID:-//Talks.cam//talks.cam.ac.uk//
X-WR-CALNAME:Talks.cam
BEGIN:VEVENT
SUMMARY:Cocaine-induced chromatin modifications associate with increased e
 xpression and three-dimensional looping of Auts2 - Dr Olivia Engmann\, Sen
 ior Post-doctoral Fellow\, Laboratory of Isabelle Mansuy\, ETH/University 
 of Zurich\, Switzerland
DTSTART:20170703T120000Z
DTEND:20170703T130000Z
UID:TALK73267@talks.cam.ac.uk
CONTACT:Lorraine Coulson
DESCRIPTION:Abstract not available
LOCATION:Nick Mackintosh Seminar Room\, Department of Psychology\, Downing
  Site\, Cambridge
END:VEVENT
END:VCALENDAR
