BEGIN:VCALENDAR
VERSION:2.0
PRODID:-//Talks.cam//talks.cam.ac.uk//
X-WR-CALNAME:Talks.cam
BEGIN:VEVENT
SUMMARY:Jurassic Black Shales and the Exceptional Carrots of Yorkshire - D
 r Liam Herringshaw\, University of Hull
DTSTART:20180508T110000Z
DTEND:20180508T120000Z
UID:TALK73581@talks.cam.ac.uk
CONTACT:37221
DESCRIPTION:Abstract not available
LOCATION:Tilley Lecture Theatre\, Department of Earth Sciences\, Downing S
 ite
END:VEVENT
END:VCALENDAR
