BEGIN:VCALENDAR
VERSION:2.0
PRODID:-//Talks.cam//talks.cam.ac.uk//
X-WR-CALNAME:Talks.cam
BEGIN:VEVENT
SUMMARY:Tech Ventures Conference 2007 - Martin Varsavsky\, founder of FON\
 , and Seth Sternberg\, co-founder of Meebo
DTSTART:20070605T090000Z
DTEND:20070605T190000Z
UID:TALK7374@talks.cam.ac.uk
CONTACT:Andrew Hawkins
DESCRIPTION:The Cambridge University Technology and Enterprise Club (*CUTE
 C*) is proud to announce that the registration for the Tech Ventures 2007 
 is now open! This year\, the theme of the conference is Commercialising Ea
 rly-Stage Technologies.\nKeynote speakers include Martin Varsavsky\, found
 er of FON\, and Seth Sternberg\, co-founder of Meebo. Panel discussions wi
 ll cover topics such as Sustainable\nEnergy\, Stem Cell technologies and s
 tart-up funding. The conference includes breakfast\, lunch\, tea breaks\, 
 and an evening cocktail-party. \n\nTime and Date: Registration starts at 1
 0am\; conference begins at 10.45am on the 5th June 2007. Please click here
  for a full conference agenda.\n\nVenue: University Arms Hotel\, Regent St
 reet\, Cambridge\, CB2 1AD\n\n%{color:red}Register at www.cutec.org/techVe
 nturesRegistration%\n\nFor more information\, please visit "www.cutec.org"
 :http://www.cutec.org/
LOCATION:University Arms Hotel
END:VEVENT
END:VCALENDAR
