BEGIN:VCALENDAR
VERSION:2.0
PRODID:-//Talks.cam//talks.cam.ac.uk//
X-WR-CALNAME:Talks.cam
BEGIN:VEVENT
SUMMARY:A role for Dystrophin and Dystroglycan in the regulation of interc
 ellular signaling during crossvein development - Dr. Robert Ray\, Universi
 ty of Sussex
DTSTART:20070604T150000Z
DTEND:20070604T154500Z
UID:TALK7401@talks.cam.ac.uk
CONTACT:Aditya Saxena
DESCRIPTION:Abstract not available
LOCATION:Gurdon Institute Tea Room
END:VEVENT
END:VCALENDAR
