BEGIN:VCALENDAR
VERSION:2.0
PRODID:-//Talks.cam//talks.cam.ac.uk//
X-WR-CALNAME:Talks.cam
BEGIN:VEVENT
SUMMARY:Title: Get it on Time -  Presenter: Dr M. Suhail Sheikh
DTSTART:20170920T123000Z
DTEND:20170920T130000Z
UID:TALK74431@talks.cam.ac.uk
CONTACT:Vicky Clarke
DESCRIPTION:Specialist Lead: Dr Roman Romero-Ortuno\n\nLead Consultant: Dr
  Duncan & Roman Romero-Ortuno Forsyth\n\nPresenter: Dr M. Suhail Sheikh\n\
 nTitle: Get it on Time\n\nSpecialty: DME: Medicine for the Elderly\n\n
LOCATION:William Harvey Lecture Theatre
END:VEVENT
END:VCALENDAR
