BEGIN:VCALENDAR
VERSION:2.0
PRODID:-//Talks.cam//talks.cam.ac.uk//
X-WR-CALNAME:Talks.cam
BEGIN:VEVENT
SUMMARY:On long term regularity of water wave models - Alexandru Ionescu (
 Princeton University)
DTSTART:20170807T123000Z
DTEND:20170807T133000Z
UID:TALK74641@talks.cam.ac.uk
CONTACT:INI IT
DESCRIPTION:We discuss the construction of long term and global solutions 
 for certain water wave models under the influence of surface tension and/o
 r gravity. This is based on joint work with Fabio Pusateri\, Yu Deng\, and
  Benoit Pausader.
LOCATION:Seminar Room 1\, Newton Institute
END:VEVENT
END:VCALENDAR
