BEGIN:VCALENDAR
VERSION:2.0
PRODID:-//Talks.cam//talks.cam.ac.uk//
X-WR-CALNAME:Talks.cam
BEGIN:VEVENT
SUMMARY: Title: Back for good - Presenter: Edward Carr on behalf of Drs To
 rpey &amp\; Linterman
DTSTART:20171025T120000Z
DTEND:20171025T123000Z
UID:TALK75281@talks.cam.ac.uk
CONTACT:Vicky Clarke
DESCRIPTION:Specialist Lead: Professor Ken Smith \n\nLead Consultant: Nich
 olas Torpey & Michelle Linterman\n\nPresenter: Edward Carr on behalf of Dr
 s Torpey & Linterman\n\nTitle: Back for good\n\nSpecialty: Renal\n\n
LOCATION:William Harvey Lecture Theatre
END:VEVENT
END:VCALENDAR
