BEGIN:VCALENDAR
VERSION:2.0
PRODID:-//Talks.cam//talks.cam.ac.uk//
X-WR-CALNAME:Talks.cam
BEGIN:VEVENT
SUMMARY:Bright solutions for food diagnostics - Professor Jim Murray\, Ins
 titute of Biotechnology and Lumora
DTSTART:20070619T153500Z
DTEND:20070619T160000Z
UID:TALK7544@talks.cam.ac.uk
CONTACT:Duncan Simpson
DESCRIPTION:Abstract not available
LOCATION:MR2\, Centre for Mathematical Sciences
END:VEVENT
END:VCALENDAR
