BEGIN:VCALENDAR
VERSION:2.0
PRODID:-//Talks.cam//talks.cam.ac.uk//
X-WR-CALNAME:Talks.cam
BEGIN:VEVENT
SUMMARY:Bernstein series of enhanced Langlands parameters - Anne-Marie Aub
 ert (CNRS/Jussieu)
DTSTART:20171114T143000Z
DTEND:20171114T153000Z
UID:TALK76341@talks.cam.ac.uk
CONTACT:Beth Romano
DESCRIPTION:We will define enhanced Langlands parameters for a split reduc
 tive p-adic group G\, and \nintroduce notions of cuspidality and cuspidal 
 support for them. \nAs an application\, we will explain how to obtain a pa
 rtition of the set of enhanced parameters \nthat is modelled upon the Bern
 stein decomposition of the smooth dual of G. \nWe will illustrate these co
 nstruction on examples.
LOCATION:MR13
END:VEVENT
END:VCALENDAR
