BEGIN:VCALENDAR
VERSION:2.0
PRODID:-//Talks.cam//talks.cam.ac.uk//
X-WR-CALNAME:Talks.cam
BEGIN:VEVENT
SUMMARY:Coordination of patterning and growth in the developing spinal cor
 d  - Anna Kicheva (IST Austria)
DTSTART:20170824T090000Z
DTEND:20170824T100000Z
UID:TALK76992@talks.cam.ac.uk
CONTACT:Hannah Main
DESCRIPTION:Abstract not available
LOCATION:Venue to be confirmed
END:VEVENT
END:VCALENDAR
