BEGIN:VCALENDAR
VERSION:2.0
PRODID:-//Talks.cam//talks.cam.ac.uk//
X-WR-CALNAME:Talks.cam
BEGIN:VEVENT
SUMMARY:Synergy of crime science and security engineering - Shaun Whitehea
 d
DTSTART:20071016T151500Z
DTEND:20071016T161500Z
UID:TALK7718@talks.cam.ac.uk
CONTACT:Saar Drimer
DESCRIPTION:This talk discusses the links between crime science and securi
 ty engineering\, drawing on experience of research into designing out mobi
 le phone theft and current investigations into the theft and misuse of ele
 ctronic services.
LOCATION:Lecture Theatre 2\, Computer Laboratory\, William Gates Building
END:VEVENT
END:VCALENDAR
