BEGIN:VCALENDAR
VERSION:2.0
PRODID:-//Talks.cam//talks.cam.ac.uk//
X-WR-CALNAME:Talks.cam
BEGIN:VEVENT
SUMMARY:Communicating Process Architecture for Multicores - Prof David May
 : Bristol University and Xmos
DTSTART:20070802T131500Z
DTEND:20070802T141500Z
UID:TALK7773@talks.cam.ac.uk
CONTACT:Prof Simon Moore
DESCRIPTION:Communicating process architecture can be used to build effici
 ent multicore chips scaling to hundreds of processors.  Concurrent process
 ing\, communications and input-output are supported directly by the instru
 ction set of the cores and by the protocol used in the on chip interconnec
 t. Concurrent programs are compiled directly to the chip exploiting novel 
 compiler optimisations. The architecture supports a variety of programming
  techniques\, ranging from statically configured process networks to dynam
 ic reconfiguration and mobile processes.\n\n*Open to all*
LOCATION:Lecture Theatre 2\, Computer Laboratory\, William Gates Building
END:VEVENT
END:VCALENDAR
