BEGIN:VCALENDAR
VERSION:2.0
PRODID:-//Talks.cam//talks.cam.ac.uk//
X-WR-CALNAME:Talks.cam
BEGIN:VEVENT
SUMMARY:Organiser Introduction - Antonin Chambolle (CNRS (Centre national 
 de la recherche scientifique)\; École Polytechnique)
DTSTART:20170905T124000Z
DTEND:20170905T125000Z
UID:TALK77861@talks.cam.ac.uk
CONTACT:INI IT
DESCRIPTION:
LOCATION:Seminar Room 1\, Newton Institute
END:VEVENT
END:VCALENDAR
