BEGIN:VCALENDAR
VERSION:2.0
PRODID:-//Talks.cam//talks.cam.ac.uk//
X-WR-CALNAME:Talks.cam
BEGIN:VEVENT
SUMMARY:An Investigation of the Structure-Function Relationship in Human C
 ervical Tissue - Kristin Myers\, MIT
DTSTART:20070821T130000Z
DTEND:20070821T140000Z
UID:TALK7872@talks.cam.ac.uk
CONTACT:Michelle L. Oyen
DESCRIPTION:Abstract not available
LOCATION:Engineering Department - Micromechanics Seminar Room
END:VEVENT
END:VCALENDAR
