BEGIN:VCALENDAR
VERSION:2.0
PRODID:-//Talks.cam//talks.cam.ac.uk//
X-WR-CALNAME:Talks.cam
BEGIN:VEVENT
SUMMARY:Transport\, deposition and migration of magmatic sulfide liquid - 
 Dr Steve Barnes from  CSIRO\, Australia
DTSTART:20170830T140000Z
DTEND:20170830T150000Z
UID:TALK78741@talks.cam.ac.uk
CONTACT:Andy Buckley
DESCRIPTION:Abstract not available
LOCATION: Harker 1\, Department of Earth Sciences\, Downing Street
END:VEVENT
END:VCALENDAR
