BEGIN:VCALENDAR
VERSION:2.0
PRODID:-//Talks.cam//talks.cam.ac.uk//
X-WR-CALNAME:Talks.cam
BEGIN:VEVENT
SUMMARY:Current topics on sea-ice research: Led by A Korobkin - 
DTSTART:20170905T140000Z
DTEND:20170905T153000Z
UID:TALK79121@talks.cam.ac.uk
CONTACT:INI IT
DESCRIPTION:Several participants of the Programme will speak about their a
 reas of expertise\, current interests in ice research\, and possible coope
 ration within the Programme. The seminar is led by A. Korobkin<br><br><br>
 <br>
LOCATION:Seminar Room 2\, Newton Institute
END:VEVENT
END:VCALENDAR
