BEGIN:VCALENDAR
VERSION:2.0
PRODID:-//Talks.cam//talks.cam.ac.uk//
X-WR-CALNAME:Talks.cam
BEGIN:VEVENT
SUMMARY:Mathematical Models of Microcolony Formation in Bacteria - Dr. Lea
 h Johnson\, National Centre for Statistical Ecology\, University of Cambri
 dge
DTSTART:20071207T130000Z
DTEND:20071207T140000Z
UID:TALK7973@talks.cam.ac.uk
CONTACT:Tiffany Bogich
DESCRIPTION:Abstract not available
LOCATION:Part II Lecture Theatre\, Department of Zoology
END:VEVENT
END:VCALENDAR
