BEGIN:VCALENDAR
VERSION:2.0
PRODID:-//Talks.cam//talks.cam.ac.uk//
X-WR-CALNAME:Talks.cam
BEGIN:VEVENT
SUMMARY:Optimal inference on compound Poisson processes discretely observe
 d at arbitrary frequencies - Alberto J Coca (Cambridge)
DTSTART:20170927T081000Z
DTEND:20170927T091000Z
UID:TALK81481@talks.cam.ac.uk
CONTACT:Richard Nickl
DESCRIPTION:Abstract not available
LOCATION:MR15\, Centre for Mathematical Sciences\, Wilberforce Road\, Camb
 ridge.
END:VEVENT
END:VCALENDAR
