BEGIN:VCALENDAR
VERSION:2.0
PRODID:-//Talks.cam//talks.cam.ac.uk//
X-WR-CALNAME:Talks.cam
BEGIN:VEVENT
SUMMARY:Knowing Me\, Knowing You: Tactics of personal understanding - Neil
  Macrae:  University of Aberdeen
DTSTART:20071011T151500Z
DTEND:20071011T161500Z
UID:TALK8170@talks.cam.ac.uk
CONTACT:6429
DESCRIPTION:Abstract not available
LOCATION:Lecture Theatre\, 15 Chaucer Road
END:VEVENT
END:VCALENDAR
