BEGIN:VCALENDAR
VERSION:2.0
PRODID:-//Talks.cam//talks.cam.ac.uk//
X-WR-CALNAME:Talks.cam
BEGIN:VEVENT
SUMMARY:Chaucer Club Debate:  What can funtional neuroimaging tell us that
  is relevant for cognitive psychology? - Mike Page: University of Hertford
  vs Tim Shallice: University College London
DTSTART:20071206T161500Z
DTEND:20071206T171500Z
UID:TALK8176@talks.cam.ac.uk
CONTACT:6429
DESCRIPTION:Abstract not available
LOCATION:Lecture Theatre\, 15 Chaucer Road
END:VEVENT
END:VCALENDAR
