BEGIN:VCALENDAR
VERSION:2.0
PRODID:-//Talks.cam//talks.cam.ac.uk//
X-WR-CALNAME:Talks.cam
BEGIN:VEVENT
SUMMARY:Error Correcting Codes - David J.C. MacKay\, Department of Physics
DTSTART:20071122T160000Z
DTEND:20071122T180000Z
UID:TALK8216@talks.cam.ac.uk
CONTACT:Zoubin Ghahramani
DESCRIPTION:The possibility of reliable communication over unreliable chan
 nels is a miracle of 20th century mathematics - a true violation of sod's 
 law.  \nIn 90 minutes\, we'll get from elementary error-correcting codes t
 o state-of-the-art sparse-graph codes decoded by belief propagation.
LOCATION:LR4\, Engineering\, Department of
END:VEVENT
END:VCALENDAR
