BEGIN:VCALENDAR
VERSION:2.0
PRODID:-//Talks.cam//talks.cam.ac.uk//
X-WR-CALNAME:Talks.cam
BEGIN:VEVENT
SUMMARY:Politics and Political Ecology of Charcoal in Uganda - Adam Branch
  (University of Cambridge)
DTSTART:20171114T123000Z
DTEND:20171114T140000Z
UID:TALK82871@talks.cam.ac.uk
CONTACT:41798
DESCRIPTION:Abstract not available
LOCATION:Alison Richard Building\, Sidgwick Site\, Seminar Room SG1
END:VEVENT
END:VCALENDAR
