BEGIN:VCALENDAR
VERSION:2.0
PRODID:-//Talks.cam//talks.cam.ac.uk//
X-WR-CALNAME:Talks.cam
BEGIN:VEVENT
SUMMARY:Open Evening for Women in Engineering - Chris Bishop
DTSTART:20170927T163000Z
DTEND:20170927T200000Z
UID:TALK83111@talks.cam.ac.uk
CONTACT:55451
DESCRIPTION:Microsoft’s mission is to empower every person and organisat
 ion on the planet to achieve more. To do this\, our workforce must be as d
 iverse as our customers.  \n\nMicrosoft actively seeks to foster greater l
 evels of diversity in our workforce and in our pipeline of future leaders.
  We are always looking for the best and brightest talent and pride ourselv
 es on our individuality - inviting candidates to come as they are and do w
 hat they love.\n\nThe event will enable you to engage with our researchers
  and engineers to find out what they’re working on\, why they love worki
 ng at Microsoft\, and how you too could develop an exciting career with us
 .
LOCATION:Auditorium\, Microsoft Research Ltd\, 21 Station Road\, Cambridge
 \, CB1 2FB
END:VEVENT
END:VCALENDAR
