BEGIN:VCALENDAR
VERSION:2.0
PRODID:-//Talks.cam//talks.cam.ac.uk//
X-WR-CALNAME:Talks.cam
BEGIN:VEVENT
SUMMARY:Global existence versus blow-up for the 2D Smoluchowski-Poisson mo
 del - Jose Carrillo (Barcelona)
DTSTART:20071101T150000Z
DTEND:20071101T160000Z
UID:TALK8439@talks.cam.ac.uk
CONTACT:6743
DESCRIPTION:Abstract not available
LOCATION:MR14\, CMS
END:VEVENT
END:VCALENDAR
