BEGIN:VCALENDAR
VERSION:2.0
PRODID:-//Talks.cam//talks.cam.ac.uk//
X-WR-CALNAME:Talks.cam
BEGIN:VEVENT
SUMMARY:Conditional Linear Cryptanalysis - Eli Biham\, Computer Science De
 partment\, Technion - Israel Institute of Technology
DTSTART:20171004T130000Z
DTEND:20171004T140000Z
UID:TALK85311@talks.cam.ac.uk
CONTACT:Alexander Vetterl
DESCRIPTION:In this talk we will discuss some new techniques in linear cry
 ptanalysis\, that can improve the bias of linear approximations. These tec
 hniques can also create some new kinds of linear approximations\, that wer
 e hard to find previously. When used in attacks\, these techniques can red
 uce the complexity of some known attacks. In particular\, they improve ove
 r Matsui's attack on DES.\nThis is a joint work with Stav Perle.
LOCATION:LT2\, Computer Laboratory\, William Gates Building
END:VEVENT
END:VCALENDAR
