BEGIN:VCALENDAR
VERSION:2.0
PRODID:-//Talks.cam//talks.cam.ac.uk//
X-WR-CALNAME:Talks.cam
BEGIN:VEVENT
SUMMARY:Some universality results for 2D percolation - Helen Lei (UCLA)
DTSTART:20071109T140000Z
DTEND:20071109T150000Z
UID:TALK8600@talks.cam.ac.uk
CONTACT:6844
DESCRIPTION:Abstract not available
LOCATION:MR11\, CMS\, Wilberforce Road\, Cambridge\, CB3 0WB
END:VEVENT
END:VCALENDAR
