BEGIN:VCALENDAR
VERSION:2.0
PRODID:-//Talks.cam//talks.cam.ac.uk//
X-WR-CALNAME:Talks.cam
BEGIN:VEVENT
SUMMARY:Title to be confirmed - Stephen Montgomery\, Antoine Couto
DTSTART:20171121T100000Z
DTEND:20171121T113000Z
UID:TALK86031@talks.cam.ac.uk
CONTACT:Rich Wallbank
DESCRIPTION:Abstract not available
LOCATION:First Floor Seminar Room\, Department of Zoology
END:VEVENT
END:VCALENDAR
