BEGIN:VCALENDAR
VERSION:2.0
PRODID:-//Talks.cam//talks.cam.ac.uk//
X-WR-CALNAME:Talks.cam
BEGIN:VEVENT
SUMMARY:HSV1 and apolipoprotein E: a dangerous liaison for Alzheimer’s a
 nd several diseases of known infectious cause - Prof. Ruth Itzhaki\, Facul
 ty of Life Sciences\, The University of Manchester
DTSTART:20071101T120000Z
DTEND:20071101T130000Z
UID:TALK8641@talks.cam.ac.uk
CONTACT:Dr Colin Crump
DESCRIPTION:Abstract not available
LOCATION:Sackler Lecture Theatre\, Level 7\, CIMR\, Addenbrooke’s Hospit
 al
END:VEVENT
END:VCALENDAR
