BEGIN:VCALENDAR
VERSION:2.0
PRODID:-//Talks.cam//talks.cam.ac.uk//
X-WR-CALNAME:Talks.cam
BEGIN:VEVENT
SUMMARY:Regulating of cell polarity by formins\, microtubules and electric
  fields - Dr Fred Chang:  Columbia University College of Physicians and Su
 rgeons
DTSTART:20071011T120000Z
DTEND:20071011T130000Z
UID:TALK8649@talks.cam.ac.uk
DESCRIPTION:Abstract not available
LOCATION:Department of Genetics
END:VEVENT
END:VCALENDAR
