BEGIN:VCALENDAR
VERSION:2.0
PRODID:-//Talks.cam//talks.cam.ac.uk//
X-WR-CALNAME:Talks.cam
BEGIN:VEVENT
SUMMARY:Agrofuels and the risk of ecosystem collapse - Deepak Rughani\, Bi
 oFuelWatch
DTSTART:20071010T180000Z
DTEND:20071010T193000Z
UID:TALK8705@talks.cam.ac.uk
CONTACT:Stephen Stretton
DESCRIPTION:AGROFUELS Deepak Rughani\, BioFuelWatch: "Agrofuels and the ri
 sk of ecosystem collapse" \n\nWednesday 10th October\, 7pm\nFriends Meetin
 g House\, 12 Jesus Lane\nMap: http://tinyurl.com/32toat\n\nBiofuelwatch ca
 mpaigns against the use of bioenergy from unsustainable sources\, i.e. bio
 fuels linked to accelerated climate change\, deforestation\, bio-diversity
  losses\, human rights abuses\, including the impoverishment and disposses
 sion of local populations\, water and soil degradation\, loss of food sove
 reignty and food security. \n\nDeepak will explain why most biofuels are m
 ore accurately called agrofuels and how they contribute both to the loss o
 f ecosystems and to global warming.  \n\nDeepak is an expert on the hydrol
 ogy and ecology of the Amazon rainforest.
LOCATION:Friends Meeting House\, 12 Jesus Lane
END:VEVENT
END:VCALENDAR
