BEGIN:VCALENDAR
VERSION:2.0
PRODID:-//Talks.cam//talks.cam.ac.uk//
X-WR-CALNAME:Talks.cam
BEGIN:VEVENT
SUMMARY:Spin Qubits and their interactions with photons - Dr Guido Burkard
DTSTART:20071015T143000Z
DTEND:20071015T153000Z
UID:TALK8718@talks.cam.ac.uk
CONTACT:6270
DESCRIPTION:Abstract not available
LOCATION:HEP Seminar Room (980) Rutherford Building\, Cavendish Laboratory
END:VEVENT
END:VCALENDAR
