BEGIN:VCALENDAR
VERSION:2.0
PRODID:-//Talks.cam//talks.cam.ac.uk//
X-WR-CALNAME:Talks.cam
BEGIN:VEVENT
SUMMARY:Energy and matter at the origin of life - Professor Nick Lane
DTSTART:20171127T180000Z
DTEND:20171127T190000Z
UID:TALK87231@talks.cam.ac.uk
CONTACT:Toby Baker
DESCRIPTION:Addressing the question that puzzles us all\, the UCL professo
 r will be exploring how geochemistry might have given rise to biochemistry
  in alkaline hydrothermal vents.
LOCATION:St John's College - Main Lecture Theatre
END:VEVENT
END:VCALENDAR
