BEGIN:VCALENDAR
VERSION:2.0
PRODID:-//Talks.cam//talks.cam.ac.uk//
X-WR-CALNAME:Talks.cam
BEGIN:VEVENT
SUMMARY:The bright future of the organic solar cells: Challenges and persp
 ectives - Agnese Abrusci (Dept. of Physics)
DTSTART:20071023T183000Z
DTEND:20071023T200000Z
UID:TALK8771@talks.cam.ac.uk
CONTACT:Christoph Teufel
DESCRIPTION:Abstract not available
LOCATION:MCR\, Clare College
END:VEVENT
END:VCALENDAR
