BEGIN:VCALENDAR
VERSION:2.0
PRODID:-//Talks.cam//talks.cam.ac.uk//
X-WR-CALNAME:Talks.cam
BEGIN:VEVENT
SUMMARY:&quot\;Individual variation in trace element requirements&quot\; -
  Prof. Sue Fairweather-Tait:  Institute of Fod Research\, Norwich
DTSTART:20071217T160000Z
DTEND:20071217T170000Z
UID:TALK8882@talks.cam.ac.uk
DESCRIPTION:Abstract not available
LOCATION:MRC Human Nutrition Research\, The Elsie Widdowson Laboratory\, F
 ulbourn Road\, Cambridge
END:VEVENT
END:VCALENDAR
