BEGIN:VCALENDAR
VERSION:2.0
PRODID:-//Talks.cam//talks.cam.ac.uk//
X-WR-CALNAME:Talks.cam
BEGIN:VEVENT
SUMMARY:Mae Ngai: The Chinese Question and Global Politics 1850-1910 - Mae
  Ngai\, Columbia University
DTSTART:20171023T160000Z
DTEND:20171023T180000Z
UID:TALK88831@talks.cam.ac.uk
CONTACT:Jonathan Goodwin
DESCRIPTION:Abstract not available
LOCATION:Knox Shaw Room\, Sidney Sussex College
END:VEVENT
END:VCALENDAR
