BEGIN:VCALENDAR
VERSION:2.0
PRODID:-//Talks.cam//talks.cam.ac.uk//
X-WR-CALNAME:Talks.cam
BEGIN:VEVENT
SUMMARY:ENCODE: Understanding our genome - Dr Ewan Birney
DTSTART:20071211T161500Z
DTEND:20071211T173000Z
UID:TALK8947@talks.cam.ac.uk
CONTACT:Scientific Meetings Co-ordinator
DESCRIPTION:Abstract not available
LOCATION:Max Perutz Lecture Theatre\, Medical Research Council (MRC) (MRC 
 Laboratory of Molecular Biol
END:VEVENT
END:VCALENDAR
